{"text_format":"1","workbook":"xlsx","n_sheets":12,"sheets":["Rohdaten","Start","Daten","001-012","013-024","025-036","037-048","049-060","061-072","073-084","085-096","097-108"],"not_rendered":{"charts":108,"images":4,"macros":1,"external_links":0,"defined_names":0,"comments":2,"pivot_tables":0},"unopened":[],"bounds":{"document_bytes":16777216,"sheet_cells":100000,"rows_first":2000,"rows_last":500,"rows_between":2000,"halvings":0,"cell_chars":16384,"cell_head_chars":4096},"cells_cut":0,"cells_raw":0,"read":"whole","date_system":"1900"}

{"sheet":"Rohdaten","index":0,"n_rows":1,"n_cols":12,"rows_kept":1,"cut":false,"hidden":false,"merged":[]}
["MessNr","Datum","Uhrzeit","Methode","Wert","Einheit","Temperatur","Einheit","Proben-ID","Lfd","nicht\ngefundene ID","ID\nübernehmen"]

{"sheet":"Start","index":1,"n_rows":86,"n_cols":20,"rows_kept":86,"cut":false,"hidden":false,"merged":[[14,0,16,1],[17,0,18,1]]}
[]
[null,null,"Weinnummer (ID)","Tank","Excel-\nblatt","Most-gewicht (°Oe)","Gesamt-\nsäure\n(g/l)","Gärung\nabge-\nschlossen",{"$f":"C2","v":"Weinnummer (ID)"},"Tank",{"$f":"E2","v":"Excel-\nblatt"},{"$f":"F2","v":"Most-gewicht (°Oe)"},{"$f":"G2","v":"Gesamt-\nsäure\n(g/l)"},null,{"$f":"C2","v":"Weinnummer (ID)"},"Tank",{"$f":"E2","v":"Excel-\nblatt"},{"$f":"F2","v":"Most-gewicht (°Oe)"},{"$f":"G2","v":"Gesamt-\nsäure\n(g/l)"},{"$f":"H2","v":"Gärung\nabge-\nschlossen"}]
[null,null,null,null,"001-012",null,null,"nein",null,null,"037-048",null,null,"nein",null,null,"073-084",null,null,"nein"]
[null,null,null,null,"001-012",null,null,"nein",null,null,"037-048",null,null,"nein",null,null,"073-084",null,null,"nein"]
[null,null,null,null,"001-012",null,null,"nein",null,null,"037-048",null,null,"nein",null,null,"073-084",null,null,"nein"]
[null,null,null,null,"001-012",null,null,"nein",null,null,"037-048",null,null,"nein",null,null,"073-084",null,null,"nein"]
[null,null,null,null,"001-012",null,null,"nein",null,null,"037-048",null,null,"nein",null,null,"073-084",null,null,"nein"]
[null,null,null,null,"001-012",null,null,"nein",null,null,"037-048",null,null,"nein",null,null,"073-084",null,null,"nein"]
[null,null,null,null,"001-012",null,null,"nein",null,null,"037-048",null,null,"nein",null,null,"073-084",null,null,"nein"]
[null,null,null,null,"001-012",null,null,"nein",null,null,"037-048",null,null,"nein",null,null,"073-084",null,null,"nein"]
[null,null,null,null,"001-012",null,null,"nein",null,null,"037-048",null,null,"nein",null,null,"073-084",null,null,"nein"]
[null,null,null,null,"001-012",null,null,"nein",null,null,"037-048",null,null,"nein",null,null,"073-084",null,null,"nein"]
[null,null,null,null,"001-012",null,null,"nein",null,null,"037-048",null,null,"nein",null,null,"073-084",null,null,"nein"]
[null,null,null,null,"001-012",null,null,"nein",null,null,"037-048",null,null,"nein",null,null,"073-084",null,null,"nein"]
["Restzucker Korrektur\n(g/l):",null,null,null,"013-024",null,null,"nein",null,null,"049-060",null,null,"nein",null,null,"085-096",null,null,"nein"]
[null,null,null,null,"013-024",null,null,"nein",null,null,"049-060",null,null,"nein",null,null,"085-096",null,null,"nein"]
[null,null,null,null,"013-024",null,null,"nein",null,null,"049-060",null,null,"nein",null,null,"085-096",null,null,"nein"]
[0,null,null,null,"013-024",null,null,"nein",null,null,"049-060",null,null,"nein",null,null,"085-096",null,null,"nein"]
[null,null,null,null,"013-024",null,null,"nein",null,null,"049-060",null,null,"nein",null,null,"085-096",null,null,"nein"]
[null,null,null,null,"013-024",null,null,"nein",null,null,"049-060",null,null,"nein",null,null,"085-096",null,null,"nein"]
[null,null,null,null,"013-024",null,null,"nein",null,null,"049-060",null,null,"nein",null,null,"085-096",null,null,"nein"]
[null,null,null,null,"013-024",null,null,"nein",null,null,"049-060",null,null,"nein",null,null,"085-096",null,null,"nein"]
[null,null,null,null,"013-024",null,null,"nein",null,null,"049-060",null,null,"nein",null,null,"085-096",null,null,"nein"]
[null,null,null,null,"013-024",null,null,"nein",null,null,"049-060",null,null,"nein",null,null,"085-096",null,null,"nein"]
[null,null,null,null,"013-024",null,null,"nein",null,null,"049-060",null,null,"nein",null,null,"085-096",null,null,"nein"]
[null,null,null,null,"013-024",null,null,"nein",null,null,"049-060",null,null,"nein",null,null,"085-096",null,null,"nein"]
[null,null,null,null,"025-036",null,null,"nein",null,null,"061-072",null,null,"nein",null,null,"097-108",null,null,"nein"]
[null,null,null,null,"025-036",null,null,"nein",null,null,"061-072",null,null,"nein",null,null,"097-108",null,null,"nein"]
[null,null,null,null,"025-036",null,null,"nein",null,null,"061-072",null,null,"nein",null,null,"097-108",null,null,"nein"]
[null,null,null,null,"025-036",null,null,"nein",null,null,"061-072",null,null,"nein",null,null,"097-108",null,null,"nein"]
[null,null,null,null,"025-036",null,null,"nein",null,null,"061-072",null,null,"nein",null,null,"097-108",null,null,"nein"]
[null,null,null,null,"025-036",null,null,"nein",null,null,"061-072",null,null,"nein",null,null,"097-108",null,null,"nein"]
[null,null,null,null,"025-036",null,null,"nein",null,null,"061-072",null,null,"nein",null,null,"097-108",null,null,"nein"]
["Version:","4.1.0",null,null,"025-036",null,null,"nein",null,null,"061-072",null,null,"nein",null,null,"097-108",null,null,"nein"]
["Stand:","2024-10-16",null,null,"025-036",null,null,"nein",null,null,"061-072",null,null,"nein",null,null,"097-108",null,null,"nein"]
[null,null,null,null,"025-036",null,null,"nein",null,null,"061-072",null,null,"nein",null,null,"097-108",null,null,"nein"]
["© M. Jutzi & B. Schandelmaier",null,null,null,"025-036",null,null,"nein",null,null,"061-072",null,null,"nein",null,null,"097-108",null,null,"nein"]
["   (DLR Rheinpfalz)",null,null,null,"025-036",null,null,"nein",null,null,"061-072",null,null,"nein",null,null,"097-108",null,null,"nein"]
[]
[null,"Bedienungsanleitung"]
["1.","Unter Excel müssen die Makros aktiviert sein, sonst geht nichts."]
["2.","Es können bis zu 108 Tanks (=Diagramme) verarbeitet (angezeigt) werden."]
["3.","Als Diagrammüberschrift werden aus obiger Tabelle die Einträge der Spalten \"Weinbezeichnung\", erweitert um die Restzuckerangabe (RZ) verwendet."]
["4.","Angezeigt wird im Diagramm die aktuellste Restzuckerangabe (neuestes Datum)."]
["5.","Die Namen der Excelblätter sind fest vorgegeben und dürfen nicht geändert werden."]
["6.","Die Reihenfolge der Excelblätter kann beliebig verändert werden. Es bietet sich aber an, die beiden ersten (Start und Daten) an ihren Positionen links zu belassen."]
["7.","In obiger Tabelle sind nur die grün hinterlegten Felder zu ändern."]
["8.","Zum Einlesen neuer Daten ist die obige dunkelblaue Schaltfläche anzuklicken. Dabei werden auch alle Diagramme aktualisiert."]
["9.","Zum Aktualisieren der Diagramme ist die obige hellblaue Schaltfläche anzuklicken. Macht nur Sinn, wenn Daten im Excel-Blatt \"Daten\" manuell geändert wurden (z. B. Restzuckerwerte nachgetragen)."]
["10.","Vor dem Einlesen der Daten müssen die Weinbezeichnungen von Hand in obige Liste eingetragen werden. Die eingetragene Position entscheidet in welcher Grafik der Wein dargestellt wird."]
[null,"Die eingetragene Weinbezeichnung muss mit der vom Messgerät ausgegebenen ID übereinstimmen."]
["11.","Gärung abgeschlossen = ja: Der Diagrammtitel wir grün unterlegt"]
["12.","Restzucker (RZ): Vorhandene (eventuell von Hand korrigierte Werte) werden bei der nächsten Aktualisierung oder dem nächsten Einlesen von Daten überschrieben."]
["13.","Der Dateiname \"Gaerueberwachung.xlsm\" kann beliebit geändert werden. Nur die Endung \"xlsm\" muss bleiben. Empfohlen wird keine landesspezifischen Sonderzeichen (ä, ö, ß) zu benutzen."]
[null,"Am unproblematischten dürfte es sein den englichen/amerikanischen Zeichnsatz zu benutzen."]
["14.","Die Eingaben im Excelblatt \"Daten\" sind frei editierbar. So können Messdaten von Hand eingetragen/geändert werden."]
["15.","Oben nicht eingetragene \"Weinbezeichnungen\" (IDs) werden weder in das Excel-Blatt \"Daten\" übernommen noch in den Grafiken angezeigt."]
["16.","Der Restzucker (Rz) wird nach Formel und Tabelle (Schandelmaier, 2015) berechnet."]
["17.","Eine zusätzliche Tank- Lagerortsbezeichnung in obiger Tabelle ist möglich (erscheint in Titelzeile der Grafiken)"]
["18.","Eine Benutzerkorrektur bzgl. des Restzuckers ist möglich (ein Wert für gesamten Datensatz)"]
["19.","Die Weinnummer (ID) kann mit führenden Nullen eingegeben werden."]
["20.","Texte in Kommentarfeldern (alle) können per Schaltfläche gelöscht werden."]
["21.","Es kann das alte und neue Format vom DMA 35 eigelesen werden."]
["22.","Die ID wird als reines Textfeld eingelesen und somit nicht mehr, z. B. als Datum, fehl  interpretiert"]
["23.","Werden beim Mostgewicht/Dichte oder bei der Temperatur nichtnumerische Daten gefunden, wird dieser Datensatz (Zeile) gelöscht"]
["24.","Optimierung der Restzuckerberechnung: Geschwindigkeitsgewinn."]
["25.","Die gemessene Eingheit Mostgewicht (°OE) oder die Dichte (g/cm³)  wird automatisch erkannt und in das Mostgewicht (°Oe) umgerechnet."]
["26.","Nichtgefundene ID können im Rohdatenblatt angekreuzt (Spalte rechts) und per Schaltfläche übernommen werden. Dabei werden auch die"]
[null,"zugehörigen Daten vom Rohdatenblatt in das Blatt \"Daten\" und somit in die Grafiken übernommen."]
["27.","Ist kein Wert für das Mostgewicht und/oder die Gesamtsäure eingetragen, wird keine Grafik angezeigt"]
["28.","Der berechnete Wert des Gesamtalkohols wird in der Überschrift in der Grafik angezeigt"]
["29.","Die berechneten Alkoholwerte beziehen sich auf Weinsweine. Für Rotweine sind die Werte um 5 g/l (… % vo ) zu reduzieren"]
[]
[null,null,"Wurde in aktueller Version geändert oder ist neu hinzu gekommen."]
[]
[null,"Die einzulesende CSV-Datei:"]
[null,"Datei-Name:  ","Dateiname und Speicherort auf dem PC (im Netzwerk)  werden per Eingabefenster abgefragt"]
[null,"Trennzeichen:  ","Semikolon (Strichpunkt)"]
[null,"Dezimaltrennzeichen:  ","Komma"]
[null,"Tausendertrennzeichen:  ","Punkt (oder nicht vorhanden)"]
[]
[]
[null,"Literatur:"]
[null,"Schandelmaier, B. (2015)"]
[null,"Jedem Most seine eigene Formel"]
[null,"Das Deutsche Weinmagazin 11, pp. 31-35"]

{"sheet":"Daten","index":2,"n_rows":206,"n_cols":433,"rows_kept":206,"cut":false,"hidden":false,"merged":[[0,205,0,208],[0,209,0,212],[0,213,0,216],[0,169,0,172],[0,173,0,176],[0,177,0,180],[0,181,0,184],[0,185,0,188],[0,189,0,192],[0,193,0,196],[0,197,0,200],[0,201,0,204],[0,133,0,136],[0,137,0,140],[0,141,0,144],[0,145,0,148],[0,149,0,152],[0,153,0,156],[0,157,0,160],[0,161,0,164],[0,165,0,168],[0,109,0,112],[0,113,0,116],[0,117,0,120],[0,121,0,124],[0,125,0,128],[0,129,0,132],[0,73,0,76],[0,77,0,80],[0,81,0,84],[0,85,0,88],[0,89,0,92],[0,93,0,96],[0,49,0,52],[0,53,0,56],[0,57,0,60],[0,61,0,64],[0,65,0,68],[0,69,0,72],[0,97,0,100],[0,101,0,104],[0,105,0,108],[0,13,0,16],[0,17,0,20],[0,21,0,24],[0,25,0,28],[0,29,0,32],[0,33,0,36],[0,37,0,40],[0,41,0,44],[0,45,0,48],[0,217,0,220],[0,221,0,224],[0,225,0,228],[0,229,0,232],[0,233,0,236],[0,237,0,240],[0,241,0,244],[0,245,0,248],[0,249,0,252],[0,349,0,352],[0,353,0,356],[0,357,0,360],[0,289,0,292],[0,293,0,296],[0,297,0,300],[0,301,0,304],[0,305,0,308],[0,309,0,312],[0,313,0,316],[0,317,0,320],[0,321,0,324],[0,337,0,340],[0,341,0,344],[0,345,0,348],[0,253,0,256],[0,257,0,260],[0,261,0,264],[0,265,0,268],[0,269,0,272],[0,273,0,276],[0,277,0,280],[0,281,0,284],[0,285,0,288],[0,1,0,4],[0,5,0,8],[0,9,0,12],[0,377,0,380],[0,373,0,376],[0,381,0,384],[0,421,0,424],[0,425,0,428],[0,429,0,432],[0,385,0,388],[0,389,0,392],[0,393,0,396],[0,397,0,400],[0,401,0,404],[0,405,0,408],[0,409,0,412],[0,413,0,416],[0,417,0,420],[0,361,0,364],[0,365,0,368],[0,369,0,372],[0,325,0,328],[0,329,0,332],[0,333,0,336],[1,1,1,4],[1,5,1,8],[1,9,1,12],[1,13,1,16],[1,17,1,20],[1,21,1,24],[1,25,1,28],[1,29,1,32],[1,33,1,36],[1,37,1,40],[1,41,1,44],[1,45,1,48],[1,49,1,52],[1,53,1,56],[1,57,1,60],[1,61,1,64],[1,65,1,68],[1,69,1,72],[1,73,1,76],[1,77,1,80],[1,81,1,84],[1,85,1,88],[1,89,1,92],[1,93,1,96],[1,97,1,100],[1,101,1,104],[1,105,1,108],[1,109,1,112],[1,113,1,116],[1,117,1,120],[1,121,1,124],[1,125,1,128],[1,129,1,132],[1,133,1,136],[1,137,1,140],[1,141,1,144],[1,145,1,148],[1,149,1,152],[1,153,1,156],[1,157,1,160],[1,161,1,164],[1,165,1,168],[1,169,1,172],[1,173,1,176],[1,177,1,180],[1,181,1,184],[1,185,1,188],[1,189,1,192],[1,193,1,196],[1,197,1,200],[1,201,1,204],[1,205,1,208],[1,209,1,212],[1,213,1,216],[1,217,1,220],[1,221,1,224],[1,225,1,228],[1,229,1,232],[1,233,1,236],[1,237,1,240],[1,241,1,244],[1,245,1,248],[1,249,1,252],[1,253,1,256],[1,257,1,260],[1,261,1,264],[1,265,1,268],[1,269,1,272],[1,273,1,276],[1,277,1,280],[1,281,1,284],[1,285,1,288],[1,289,1,292],[1,293,1,296],[1,297,1,300],[1,301,1,304],[1,305,1,308],[1,309,1,312],[1,313,1,316],[1,317,1,320],[1,321,1,324],[1,325,1,328],[1,329,1,332],[1,333,1,336],[1,337,1,340],[1,341,1,344],[1,345,1,348],[1,349,1,352],[1,353,1,356],[1,357,1,360],[1,361,1,364],[1,365,1,368],[1,369,1,372],[1,373,1,376],[1,377,1,380],[1,381,1,384],[1,385,1,388],[1,389,1,392],[1,393,1,396],[1,397,1,400],[1,401,1,404],[1,405,1,408],[1,409,1,412],[1,413,1,416],[1,417,1,420],[1,421,1,424],[1,425,1,428],[1,429,1,432]]}
[null,{"$f":"IF(ISBLANK(Start!C3),\"\",IF(ISBLANK(Start!D3),Start!C3,Start!C3 &  \" (\" & Start!D3 & \")\"))","v":""},null,null,null,{"$f":"IF(ISBLANK(Start!C4),\"\",IF(ISBLANK(Start!D4),Start!C4,Start!C4 &  \" (\" & Start!D4 & \")\"))","v":""},null,null,null,{"$f":"IF(ISBLANK(Start!C5),\"\",IF(ISBLANK(Start!D5),Start!C5,Start!C5 &  \" (\" & Start!D5 & \")\"))","v":""},null,null,null,{"$f":"IF(ISBLANK(Start!C6),\"\",IF(ISBLANK(Start!D6),Start!C6,Start!C6 &  \" (\" & Start!D6 & \")\"))","v":""},null,null,null,{"$f":"IF(ISBLANK(Start!C7),\"\",IF(ISBLANK(Start!D7),Start!C7,Start!C7 &  \" (\" & Start!D7 & \")\"))","v":""},null,null,null,{"$f":"IF(ISBLANK(Start!C8),\"\",IF(ISBLANK(Start!D8),Start!C8,Start!C8 &  \" (\" & Start!D8 & \")\"))","v":""},null,null,null,{"$f":"IF(ISBLANK(Start!C9),\"\",IF(ISBLANK(Start!D9),Start!C9,Start!C9 &  \" (\" & Start!D9 & \")\"))","v":""},null,null,null,{"$f":"IF(ISBLANK(Start!C10),\"\",IF(ISBLANK(Start!D10),Start!C10,Start!C10 &  \" (\" & Start!D10 & \")\"))","v":""},null,null,null,{"$f":"IF(ISBLANK(Start!C11),\"\",IF(ISBLANK(Start!D11),Start!C11,Start!C11 &  \" (\" & Start!D11 & \")\"))","v":""},null,null,null,{"$f":"IF(ISBLANK(Start!C12),\"\",IF(ISBLANK(Start!D12),Start!C12,Start!C12 &  \" (\" & Start!D12 & \")\"))","v":""},null,null,null,{"$f":"IF(ISBLANK(Start!C13),\"\",IF(ISBLANK(Start!D13),Start!C13,Start!C13 &  \" (\" & Start!D13 & \")\"))","v":""},null,null,null,{"$f":"IF(ISBLANK(Start!C14),\"\",IF(ISBLANK(Start!D14),Start!C14,Start!C14 &  \" (\" & Start!D14 & \")\"))","v":""},null,null,null,{"$f":"IF(ISBLANK(Start!C15),\"\",IF(ISBLANK(Start!D15),Start!C15,Start!C15 &  \" (\" & Start!D15 & \")\"))","v":""},null,null,null,{"$f":"IF(ISBLANK(Start!C16),\"\",IF(ISBLANK(Start!D16),Start!C16,Start!C16 &  \" (\" & Start!D16 & \")\"))","v":""},null,null,null,{"$f":"IF(ISBLANK(Start!C17),\"\",IF(ISBLANK(Start!D17),Start!C17,Start!C17 &  \" (\" & Start!D17 & \")\"))","v":""},null,null,null,{"$f":"IF(ISBLANK(Start!C18),\"\",IF(ISBLANK(Start!D18),Start!C18,Start!C18 &  \" (\" & Start!D18 & \")\"))","v":""},null,null,null,{"$f":"IF(ISBLANK(Start!C19),\"\",IF(ISBLANK(Start!D19),Start!C19,Start!C19 &  \" (\" & Start!D19 & \")\"))","v":""},null,null,null,{"$f":"IF(ISBLANK(Start!C20),\"\",IF(ISBLANK(Start!D20),Start!C20,Start!C20 &  \" (\" & Start!D20 & \")\"))","v":""},null,null,null,{"$f":"IF(ISBLANK(Start!C21),\"\",IF(ISBLANK(Start!D21),Start!C21,Start!C21 &  \" (\" & Start!D21 & \")\"))","v":""},null,null,null,{"$f":"IF(ISBLANK(Start!C22),\"\",IF(ISBLANK(Start!D22),Start!C22,Start!C22 &  \" (\" & Start!D22 & \")\"))","v":""},null,null,null,{"$f":"IF(ISBLANK(Start!C23),\"\",IF(ISBLANK(Start!D23),Start!C23,Start!C23 &  \" (\" & Start!D23 & \")\"))","v":""},null,null,null,{"$f":"IF(ISBLANK(Start!C24),\"\",IF(ISBLANK(Start!D24),Start!C24,Start!C24 &  \" (\" & Start!D24 & \")\"))","v":""},null,null,null,{"$f":"IF(ISBLANK(Start!C25),\"\",IF(ISBLANK(Start!D25),Start!C25,Start!C25 &  \" (\" & Start!D25 & \")\"))","v":""},null,null,null,{"$f":"IF(ISBLANK(Start!C26),\"\",IF(ISBLANK(Start!D26),Start!C26,Start!C26 &  \" (\" & Start!D26 & \")\"))","v":""},null,null,null,{"$f":"IF(ISBLANK(Start!C27),\"\",IF(ISBLANK(Start!D27),Start!C27,Start!C27 &  \" (\" & Start!D27 & \")\"))","v":""},null,null,null,{"$f":"IF(ISBLANK(Start!C28),\"\",IF(ISBLANK(Start!D28),Start!C28,Start!C28 &  \" (\" & Start!D28 & \")\"))","v":""},null,null,null,{"$f":"IF(ISBLANK(Start!C29),\"\",IF(ISBLANK(Start!D29),Start!C29,Start!C29 &  \" (\" & Start!D29 & \")\"))","v":""},null,null,null,{"$f":"IF(ISBLANK(Start!C30),\"\",IF(ISBLANK(Start!D30),Start!C30,Start!C30 &  \" (\" & Start!D30 & \")\"))","v":""},null,null,null,{"$f":"IF(ISBLANK(Start!C31),\"\",IF(ISBLANK(Start!D31),Start!C31,Start!C31 &  \" (\" & Start!D31 & \")\"))","v":""},null,null,null,{"$f":"IF(ISBLANK(Start!C32),\"\",IF(ISBLANK(Start!D32),Start!C32,Start!C32 &  \" (\" & Start!D32 & \")\"))","v":""},null,null,null,{"$f":"IF(ISBLANK(Start!C33),\"\",IF(ISBLANK(Start!D33),Start!C33,Start!C33 &  \" (\" & Start!D33 & \")\"))","v":""},null,null,null,{"$f":"IF(ISBLANK(Start!C34),\"\",IF(ISBLANK(Start!D34),Start!C34,Start!C34 &  \" (\" & Start!D34 & \")\"))","v":""},null,null,null,{"$f":"IF(ISBLANK(Start!C35),\"\",IF(ISBLANK(Start!D35),Start!C35,Start!C35 &  \" (\" & Start!D35 & \")\"))","v":""},null,null,null,{"$f":"IF(ISBLANK(Start!C36),\"\",IF(ISBLANK(Start!D36),Start!C36,Start!C36 &  \" (\" & Start!D36 & \")\"))","v":""},null,null,null,{"$f":"IF(ISBLANK(Start!C37),\"\",IF(ISBLANK(Start!D37),Start!C37,Start!C37 &  \" (\" & Start!D37 & \")\"))","v":""},null,null,null,{"$f":"IF(ISBLANK(Start!C38),\"\",IF(ISBLANK(Start!D38),Start!C38,Start!C38 &  \" (\" & Start!D38 & \")\"))","v":""},null,null,null,{"$f":"IF(ISBLANK(Start!I3),\"\",IF(ISBLANK(Start!J3),Start!I3,Start!I3 &  \" (\" & Start!J3 & \")\"))","v":""},null,null,null,{"$f":"IF(ISBLANK(Start!I4),\"\",IF(ISBLANK(Start!J4),Start!I4,Start!I4 &  \" (\" & Start!J4 & \")\"))","v":""},null,null,null,{"$f":"IF(ISBLANK(Start!I5),\"\",IF(ISBLANK(Start!J5),Start!I5,Start!I5 &  \" (\" & Start!J5 & \")\"))","v":""},null,null,null,{"$f":"IF(ISBLANK(Start!I6),\"\",IF(ISBLANK(Start!J6),Start!I6,Start!I6 &  \" (\" & Start!J6 & \")\"))","v":""},null,null,null,{"$f":"IF(ISBLANK(Start!I7),\"\",IF(ISBLANK(Start!J7),Start!I7,Start!I7 &  \" (\" & Start!J7 & \")\"))","v":""},null,null,null,{"$f":"IF(ISBLANK(Start!I8),\"\",IF(ISBLANK(Start!J8),Start!I8,Start!I8 &  \" (\" & Start!J8 & \")\"))","v":""},null,null,null,{"$f":"IF(ISBLANK(Start!I9),\"\",IF(ISBLANK(Start!J9),Start!I9,Start!I9 &  \" (\" & Start!J9 & \")\"))","v":""},null,null,null,{"$f":"IF(ISBLANK(Start!I10),\"\",IF(ISBLANK(Start!J10),Start!I10,Start!I10 &  \" (\" & Start!J10 & \")\"))","v":""},null,null,null,{"$f":"IF(ISBLANK(Start!I11),\"\",IF(ISBLANK(Start!J11),Start!I11,Start!I11 &  \" (\" & Start!J11 & \")\"))","v":""},null,null,null,{"$f":"IF(ISBLANK(Start!I12),\"\",IF(ISBLANK(Start!J12),Start!I12,Start!I12 &  \" (\" & Start!J12 & \")\"))","v":""},null,null,null,{"$f":"IF(ISBLANK(Start!I13),\"\",IF(ISBLANK(Start!J13),Start!I13,Start!I13 &  \" (\" & Start!J13 & \")\"))","v":""},null,null,null,{"$f":"IF(ISBLANK(Start!I14),\"\",IF(ISBLANK(Start!J14),Start!I14,Start!I14 &  \" (\" & Start!J14 & \")\"))","v":""},null,null,null,{"$f":"IF(ISBLANK(Start!I15),\"\",IF(ISBLANK(Start!J15),Start!I15,Start!I15 &  \" (\" & Start!J15 & \")\"))","v":""},null,null,null,{"$f":"IF(ISBLANK(Start!I16),\"\",IF(ISBLANK(Start!J16),Start!I16,Start!I16 &  \" (\" & Start!J16 & \")\"))","v":""},null,null,null,{"$f":"IF(ISBLANK(Start!I17),\"\",IF(ISBLANK(Start!J17),Start!I17,Start!I17 &  \" (\" & Start!J17 & \")\"))","v":""},null,null,null,{"$f":"IF(ISBLANK(Start!I18),\"\",IF(ISBLANK(Start!J18),Start!I18,Start!I18 &  \" (\" & Start!J18 & \")\"))","v":""},null,null,null,{"$f":"IF(ISBLANK(Start!I19),\"\",IF(ISBLANK(Start!J19),Start!I19,Start!I19 &  \" (\" & Start!J19 & \")\"))","v":""},null,null,null,{"$f":"IF(ISBLANK(Start!I20),\"\",IF(ISBLANK(Start!J20),Start!I20,Start!I20 &  \" (\" & Start!J20 & \")\"))","v":""},null,null,null,{"$f":"IF(ISBLANK(Start!I21),\"\",IF(ISBLANK(Start!J21),Start!I21,Start!I21 &  \" (\" & Start!J21 & \")\"))","v":""},null,null,null,{"$f":"IF(ISBLANK(Start!I22),\"\",IF(ISBLANK(Start!J22),Start!I22,Start!I22 &  \" (\" & Start!J22 & \")\"))","v":""},null,null,null,{"$f":"IF(ISBLANK(Start!I23),\"\",IF(ISBLANK(Start!J23),Start!I23,Start!I23 &  \" (\" & Start!J23 & \")\"))","v":""},null,null,null,{"$f":"IF(ISBLANK(Start!I24),\"\",IF(ISBLANK(Start!J24),Start!I24,Start!I24 &  \" (\" & Start!J24 & \")\"))","v":""},null,null,null,{"$f":"IF(ISBLANK(Start!I25),\"\",IF(ISBLANK(Start!J25),Start!I25,Start!I25 &  \" (\" & Start!J25 & \")\"))","v":""},null,null,null,{"$f":"IF(ISBLANK(Start!I26),\"\",IF(ISBLANK(Start!J26),Start!I26,Start!I26 &  \" (\" & Start!J26 & \")\"))","v":""},null,null,null,{"$f":"IF(ISBLANK(Start!I27),\"\",IF(ISBLANK(Start!J27),Start!I27,Start!I27 &  \" (\" & Start!J27 & \")\"))","v":""},null,null,null,{"$f":"IF(ISBLANK(Start!I28),\"\",IF(ISBLANK(Start!J28),Start!I28,Start!I28 &  \" (\" & Start!J28 & \")\"))","v":""},null,null,null,{"$f":"IF(ISBLANK(Start!I29),\"\",IF(ISBLANK(Start!J29),Start!I29,Start!I29 &  \" (\" & Start!J29 & \")\"))","v":""},null,null,null,{"$f":"IF(ISBLANK(Start!I30),\"\",IF(ISBLANK(Start!J30),Start!I30,Start!I30 &  \" (\" & Start!J30 & \")\"))","v":""},null,null,null,{"$f":"IF(ISBLANK(Start!I31),\"\",IF(ISBLANK(Start!J31),Start!I31,Start!I31 &  \" (\" & Start!J31 & \")\"))","v":""},null,null,null,{"$f":"IF(ISBLANK(Start!I32),\"\",IF(ISBLANK(Start!J32),Start!I32,Start!I32 &  \" (\" & Start!J32 & \")\"))","v":""},null,null,null,{"$f":"IF(ISBLANK(Start!I33),\"\",IF(ISBLANK(Start!J33),Start!I33,Start!I33 &  \" (\" & Start!J33 & \")\"))","v":""},null,null,null,{"$f":"IF(ISBLANK(Start!I34),\"\",IF(ISBLANK(Start!J34),Start!I34,Start!I34 &  \" (\" & Start!J34 & \")\"))","v":""},null,null,null,{"$f":"IF(ISBLANK(Start!I35),\"\",IF(ISBLANK(Start!J35),Start!I35,Start!I35 &  \" (\" & Start!J35 & \")\"))","v":""},null,null,null,{"$f":"IF(ISBLANK(Start!I36),\"\",IF(ISBLANK(Start!J36),Start!I36,Start!I36 &  \" (\" & Start!J36 & \")\"))","v":""},null,null,null,{"$f":"IF(ISBLANK(Start!I37),\"\",IF(ISBLANK(Start!J37),Start!I37,Start!I37 &  \" (\" & Start!J37 & \")\"))","v":""},null,null,null,{"$f":"IF(ISBLANK(Start!I38),\"\",IF(ISBLANK(Start!J38),Start!I38,Start!I38 &  \" (\" & Start!J38 & \")\"))","v":""},null,null,null,{"$f":"IF(ISBLANK(Start!O3),\"\",IF(ISBLANK(Start!P3),Start!O3,Start!O3 &  \" (\" & Start!P3 & \")\"))","v":""},null,null,null,{"$f":"IF(ISBLANK(Start!O4),\"\",IF(ISBLANK(Start!P4),Start!O4,Start!O4 &  \" (\" & Start!P4 & \")\"))","v":""},null,null,null,{"$f":"IF(ISBLANK(Start!O5),\"\",IF(ISBLANK(Start!P5),Start!O5,Start!O5 &  \" (\" & Start!P5 & \")\"))","v":""},null,null,null,{"$f":"IF(ISBLANK(Start!O6),\"\",IF(ISBLANK(Start!P6),Start!O6,Start!O6 &  \" (\" & Start!P6 & \")\"))","v":""},null,null,null,{"$f":"IF(ISBLANK(Start!O7),\"\",IF(ISBLANK(Start!P7),Start!O7,Start!O7 &  \" (\" & Start!P7 & \")\"))","v":""},null,null,null,{"$f":"IF(ISBLANK(Start!O8),\"\",IF(ISBLANK(Start!P8),Start!O8,Start!O8 &  \" (\" & Start!P8 & \")\"))","v":""},null,null,null,{"$f":"IF(ISBLANK(Start!O9),\"\",IF(ISBLANK(Start!P9),Start!O9,Start!O9 &  \" (\" & Start!P9 & \")\"))","v":""},null,null,null,{"$f":"IF(ISBLANK(Start!O10),\"\",IF(ISBLANK(Start!P10),Start!O10,Start!O10 &  \" (\" & Start!P10 & \")\"))","v":""},null,null,null,{"$f":"IF(ISBLANK(Start!O11),\"\",IF(ISBLANK(Start!P11),Start!O11,Start!O11 &  \" (\" & Start!P11 & \")\"))","v":""},null,null,null,{"$f":"IF(ISBLANK(Start!O12),\"\",IF(ISBLANK(Start!P12),Start!O12,Start!O12 &  \" (\" & Start!P12 & \")\"))","v":""},null,null,null,{"$f":"IF(ISBLANK(Start!O13),\"\",IF(ISBLANK(Start!P13),Start!O13,Start!O13 &  \" (\" & Start!P13 & \")\"))","v":""},null,null,null,{"$f":"IF(ISBLANK(Start!O14),\"\",IF(ISBLANK(Start!P14),Start!O14,Start!O14 &  \" (\" & Start!P14 & \")\"))","v":""},null,null,null,{"$f":"IF(ISBLANK(Start!O15),\"\",IF(ISBLANK(Start!P15),Start!O15,Start!O15 &  \" (\" & Start!P15 & \")\"))","v":""},null,null,null,{"$f":"IF(ISBLANK(Start!O16),\"\",IF(ISBLANK(Start!P16),Start!O16,Start!O16 &  \" (\" & Start!P16 & \")\"))","v":""},null,null,null,{"$f":"IF(ISBLANK(Start!O17),\"\",IF(ISBLANK(Start!P17),Start!O17,Start!O17 &  \" (\" & Start!P17 & \")\"))","v":""},null,null,null,{"$f":"IF(ISBLANK(Start!O18),\"\",IF(ISBLANK(Start!P18),Start!O18,Start!O18 &  \" (\" & Start!P18 & \")\"))","v":""},null,null,null,{"$f":"IF(ISBLANK(Start!O19),\"\",IF(ISBLANK(Start!P19),Start!O19,Start!O19 &  \" (\" & Start!P19 & \")\"))","v":""},null,null,null,{"$f":"IF(ISBLANK(Start!O20),\"\",IF(ISBLANK(Start!P20),Start!O20,Start!O20 &  \" (\" & Start!P20 & \")\"))","v":""},null,null,null,{"$f":"IF(ISBLANK(Start!O21),\"\",IF(ISBLANK(Start!P21),Start!O21,Start!O21 &  \" (\" & Start!P21 & \")\"))","v":""},null,null,null,{"$f":"IF(ISBLANK(Start!O22),\"\",IF(ISBLANK(Start!P22),Start!O22,Start!O22 &  \" (\" & Start!P22 & \")\"))","v":""},null,null,null,{"$f":"IF(ISBLANK(Start!O23),\"\",IF(ISBLANK(Start!P23),Start!O23,Start!O23 &  \" (\" & Start!P23 & \")\"))","v":""},null,null,null,{"$f":"IF(ISBLANK(Start!O24),\"\",IF(ISBLANK(Start!P24),Start!O24,Start!O24 &  \" (\" & Start!P24 & \")\"))","v":""},null,null,null,{"$f":"IF(ISBLANK(Start!O25),\"\",IF(ISBLANK(Start!P25),Start!O25,Start!O25 &  \" (\" & Start!P25 & \")\"))","v":""},null,null,null,{"$f":"IF(ISBLANK(Start!O26),\"\",IF(ISBLANK(Start!P26),Start!O26,Start!O26 &  \" (\" & Start!P26 & \")\"))","v":""},null,null,null,{"$f":"IF(ISBLANK(Start!O27),\"\",IF(ISBLANK(Start!P27),Start!O27,Start!O27 &  \" (\" & Start!P27 & \")\"))","v":""},null,null,null,{"$f":"IF(ISBLANK(Start!O28),\"\",IF(ISBLANK(Start!P28),Start!O28,Start!O28 &  \" (\" & Start!P28 & \")\"))","v":""},null,null,null,{"$f":"IF(ISBLANK(Start!O29),\"\",IF(ISBLANK(Start!P29),Start!O29,Start!O29 &  \" (\" & Start!P29 & \")\"))","v":""},null,null,null,{"$f":"IF(ISBLANK(Start!O30),\"\",IF(ISBLANK(Start!P30),Start!O30,Start!O30 &  \" (\" & Start!P30 & \")\"))","v":""},null,null,null,{"$f":"IF(ISBLANK(Start!O31),\"\",IF(ISBLANK(Start!P31),Start!O31,Start!O31 &  \" (\" & Start!P31 & \")\"))","v":""},null,null,null,{"$f":"IF(ISBLANK(Start!O32),\"\",IF(ISBLANK(Start!P32),Start!O32,Start!O32 &  \" (\" & Start!P32 & \")\"))","v":""},null,null,null,{"$f":"IF(ISBLANK(Start!O33),\"\",IF(ISBLANK(Start!P33),Start!O33,Start!O33 &  \" (\" & Start!P33 & \")\"))","v":""},null,null,null,{"$f":"IF(ISBLANK(Start!O34),\"\",IF(ISBLANK(Start!P34),Start!O34,Start!O34 &  \" (\" & Start!P34 & \")\"))","v":""},null,null,null,{"$f":"IF(ISBLANK(Start!O35),\"\",IF(ISBLANK(Start!P35),Start!O35,Start!O35 &  \" (\" & Start!P35 & \")\"))","v":""},null,null,null,{"$f":"IF(ISBLANK(Start!O36),\"\",IF(ISBLANK(Start!P36),Start!O36,Start!O36 &  \" (\" & Start!P36 & \")\"))","v":""},null,null,null,{"$f":"IF(ISBLANK(Start!O37),\"\",IF(ISBLANK(Start!P37),Start!O37,Start!O37 &  \" (\" & Start!P37 & \")\"))","v":""},null,null,null,{"$f":"IF(ISBLANK(Start!O38),\"\",IF(ISBLANK(Start!P38),Start!O38,Start!O38 &  \" (\" & Start!P38 & \")\"))","v":""}]
[]
["Lfd","Datum Zeit","°Oe","°C","RZ","Datum Zeit","°Oe","°C","RZ","Datum Zeit","°Oe","°C","RZ","Datum Zeit","°Oe","°C","RZ","Datum Zeit","°Oe","°C","RZ","Datum Zeit","°Oe","°C","RZ","Datum Zeit","°Oe","°C","RZ","Datum Zeit","°Oe","°C","RZ","Datum Zeit","°Oe","°C","RZ","Datum Zeit","°Oe","°C","RZ","Datum Zeit","°Oe","°C","RZ","Datum Zeit","°Oe","°C","RZ","Datum Zeit","°Oe","°C","RZ","Datum Zeit","°Oe","°C","RZ","Datum Zeit","°Oe","°C","RZ","Datum Zeit","°Oe","°C","RZ","Datum Zeit","°Oe","°C","RZ","Datum Zeit","°Oe","°C","RZ","Datum Zeit","°Oe","°C","RZ","Datum Zeit","°Oe","°C","RZ","Datum Zeit","°Oe","°C","RZ","Datum Zeit","°Oe","°C","RZ","Datum Zeit","°Oe","°C","RZ","Datum Zeit","°Oe","°C","RZ","Datum Zeit","°Oe","°C","RZ","Datum Zeit","°Oe","°C","RZ","Datum Zeit","°Oe","°C","RZ","Datum Zeit","°Oe","°C","RZ","Datum Zeit","°Oe","°C","RZ","Datum Zeit","°Oe","°C","RZ","Datum Zeit","°Oe","°C","RZ","Datum Zeit","°Oe","°C","RZ","Datum Zeit","°Oe","°C","RZ","Datum Zeit","°Oe","°C","RZ","Datum Zeit","°Oe","°C","RZ","Datum Zeit","°Oe","°C","RZ","Datum Zeit","°Oe","°C","RZ","Datum Zeit","°Oe","°C","RZ","Datum Zeit","°Oe","°C","RZ","Datum Zeit","°Oe","°C","RZ","Datum Zeit","°Oe","°C","RZ","Datum Zeit","°Oe","°C","RZ","Datum Zeit","°Oe","°C","RZ","Datum Zeit","°Oe","°C","RZ","Datum Zeit","°Oe","°C","RZ","Datum Zeit","°Oe","°C","RZ","Datum Zeit","°Oe","°C","RZ","Datum Zeit","°Oe","°C","RZ","Datum Zeit","°Oe","°C","RZ","Datum Zeit","°Oe","°C","RZ","Datum Zeit","°Oe","°C","RZ","Datum Zeit","°Oe","°C","RZ","Datum Zeit","°Oe","°C","RZ","Datum Zeit","°Oe","°C","RZ","Datum Zeit","°Oe","°C","RZ","Datum Zeit","°Oe","°C","RZ","Datum Zeit","°Oe","°C","RZ","Datum Zeit","°Oe","°C","RZ","Datum Zeit","°Oe","°C","RZ","RZ","°Oe","°C","RZ","Datum Zeit","°Oe","°C","RZ","Datum Zeit","°Oe","°C","RZ","Datum Zeit","°Oe","°C","RZ","Datum Zeit","°Oe","°C","RZ","Datum Zeit","°Oe","°C","RZ","Datum Zeit","°Oe","°C","RZ","Datum Zeit","°Oe","°C","RZ","Datum Zeit","°Oe","°C","RZ","Datum Zeit","°Oe","°C","RZ","Datum Zeit","°Oe","°C","RZ","Datum Zeit","°Oe","°C","RZ","Datum Zeit","°Oe","°C","RZ","Datum Zeit","°Oe","°C","RZ","Datum Zeit","°Oe","°C","RZ","Datum Zeit","°Oe","°C","RZ","Datum Zeit","°Oe","°C","RZ","Datum Zeit","°Oe","°C","RZ","Datum Zeit","°Oe","°C","RZ","Datum Zeit","°Oe","°C","RZ","Datum Zeit","°Oe","°C","RZ","Datum Zeit","°Oe","°C","RZ","Datum Zeit","°Oe","°C","RZ","Datum Zeit","°Oe","°C","RZ","Datum Zeit","°Oe","°C","RZ","Datum Zeit","°Oe","°C","RZ","Datum Zeit","°Oe","°C","RZ","Datum Zeit","°Oe","°C","RZ","Datum Zeit","°Oe","°C","RZ","Datum Zeit","°Oe","°C","RZ","Datum Zeit","°Oe","°C","RZ","Datum Zeit","°Oe","°C","RZ","Datum Zeit","°Oe","°C","RZ","Datum Zeit","°Oe","°C","RZ","Datum Zeit","°Oe","°C","RZ","Datum Zeit","°Oe","°C","RZ","Datum Zeit","°Oe","°C","RZ","Datum Zeit","°Oe","°C","RZ","Datum Zeit","°Oe","°C","RZ","Datum Zeit","°Oe","°C","RZ","Datum Zeit","°Oe","°C","RZ","Datum Zeit","°Oe","°C","RZ","Datum Zeit","°Oe","°C","RZ","Datum Zeit","°Oe","°C","RZ","Datum Zeit","°Oe","°C","RZ","Datum Zeit","°Oe","°C","RZ","Datum Zeit","°Oe","°C","RZ","Datum Zeit","°Oe","°C","RZ","Datum Zeit","°Oe","°C","RZ"]
[1]
[2]
[3]
[4]
[5]
[6]
[7]
[8]
[9]
[10]
[11]
[12]
[13]
[14]
[15]
[16]
[17]
[18]
[19]
[20]
[21]
[22]
[23]
[24]
[25]
[26]
[27]
[28]
[29]
[30]
[31]
[32]
[33]
[34]
[35]
[36]
[37]
[38]
[39]
[40]
[41]
[42]
[43]
[44]
[45]
[46]
[47]
[48]
[49]
[50]
[51]
[52]
[53]
[54]
[55]
[56]
[57]
[58]
[59]
[60]
[61]
[62]
[63]
[64]
[65]
[66]
[67]
[68]
[69]
[70]
[71]
[72]
[73]
[74]
[75]
[76]
[77]
[78]
[79]
[80]
[81]
[82]
[83]
[84]
[85]
[86]
[87]
[88]
[89]
[90]
[91]
[92]
[93]
[94]
[95]
[96]
[97]
[98]
[99]
[100]
[101]
[102]
[103]
[104]
[105]
[106]
[107]
[108]
[109]
[110]
[111]
[112]
[113]
[114]
[115]
[116]
[117]
[118]
[119]
[120]
[121]
[122]
[123]
[124]
[125]
[126]
[127]
[128]
[129]
[130]
[131]
[132]
[133]
[134]
[135]
[136]
[137]
[138]
[139]
[140]
[141]
[142]
[143]
[144]
[145]
[146]
[147]
[148]
[149]
[150]
[151]
[152]
[153]
[154]
[155]
[156]
[157]
[158]
[159]
[160]
[161]
[162]
[163]
[164]
[165]
[166]
[167]
[168]
[169]
[170]
[171]
[172]
[173]
[174]
[175]
[176]
[177]
[178]
[179]
[180]
[181]
[182]
[183]
[184]
[185]
[186]
[187]
[188]
[189]
[190]
[191]
[192]
[193]
[194]
[195]
[196]
[197]
[198]
[199]
[200]
[null,"00:00:00",0,0,null,"00:00:00",0,0,null,"00:00:00",0,0,null,"00:00:00",0,0,null,"00:00:00",0,0,null,"00:00:00",0,0,null,"00:00:00",0,0,null,"00:00:00",0,0,null,"00:00:00",0,0,null,"00:00:00",0,0,null,"00:00:00",0,0,null,"00:00:00",0,0,null,"00:00:00",0,0,null,"00:00:00",0,0,null,"00:00:00",0,0,null,"00:00:00",0,0,null,"00:00:00",0,0,null,"00:00:00",0,0,null,"00:00:00",0,0,null,"00:00:00",0,0,null,"00:00:00",0,0,null,"00:00:00",0,0,null,"00:00:00",0,0,null,"00:00:00",0,0,null,"00:00:00",0,0,null,"00:00:00",0,0,null,"00:00:00",0,0,null,"00:00:00",0,0,null,"00:00:00",0,0,null,"00:00:00",0,0,null,"00:00:00",0,0,null,"00:00:00",0,0,null,"00:00:00",0,0,null,"00:00:00",0,0,null,"00:00:00",0,0,null,"00:00:00",0,0,null,"00:00:00",0,0,null,"00:00:00",0,0,null,"00:00:00",0,0,null,"00:00:00",0,0,null,"00:00:00",0,0,null,"00:00:00",0,0,null,"00:00:00",0,0,null,"00:00:00",0,0,null,"00:00:00",0,0,null,"00:00:00",0,0,null,"00:00:00",0,0,null,"00:00:00",0,0,null,"00:00:00",0,0,null,"00:00:00",0,0,null,"00:00:00",0,0,null,"00:00:00",0,0,null,"00:00:00",0,0,null,"00:00:00",0,0,null,"00:00:00",0,0,null,"00:00:00",0,0,null,"00:00:00",0,0,null,"00:00:00",0,0,null,"00:00:00",0,0,null,"00:00:00",0,0,null,"00:00:00",0,0,null,"00:00:00",0,0,null,"00:00:00",0,0,null,"00:00:00",0,0,null,"00:00:00",0,0,null,"00:00:00",0,0,null,"00:00:00",0,0,null,"00:00:00",0,0,null,"00:00:00",0,0,null,"00:00:00",0,0,null,"00:00:00",0,0,null,"00:00:00",0,0,null,"00:00:00",0,0,null,"00:00:00",0,0,null,"00:00:00",0,0,null,"00:00:00",0,0,null,"00:00:00",0,0,null,"00:00:00",0,0,null,"00:00:00",0,0,null,"00:00:00",0,0,null,"00:00:00",0,0,null,"00:00:00",0,0,null,"00:00:00",0,0,null,"00:00:00",0,0,null,"00:00:00",0,0,null,"00:00:00",0,0,null,"00:00:00",0,0,null,"00:00:00",0,0,null,"00:00:00",0,0,null,"00:00:00",0,0,null,"00:00:00",0,0,null,"00:00:00",0,0,null,"00:00:00",0,0,null,"00:00:00",0,0,null,"00:00:00",0,0,null,"00:00:00",0,0,null,"00:00:00",0,0,null,"00:00:00",0,0,null,"00:00:00",0,0,null,"00:00:00",0,0,null,"00:00:00",0,0,null,"00:00:00",0,0,null,"00:00:00",0,0,null,"00:00:00",0,0,null,"00:00:00",0,0,null,"00:00:00",0,0,null,"00:00:00",0,0,null,"00:00:00",0,0]
[null,"1900-01-21",null,null,null,"1900-01-21",null,null,null,"1900-01-21",null,null,null,"1900-01-21",null,null,null,"1900-01-21",null,null,null,"1900-01-21",null,null,null,"1900-01-21",null,null,null,"1900-01-21",null,null,null,"1900-01-21",null,null,null,"1900-01-21",null,null,null,"1900-01-21",null,null,null,"1900-01-21",null,null,null,"1900-01-21",null,null,null,"1900-01-21",null,null,null,"1900-01-21",null,null,null,"1900-01-21",null,null,null,"1900-01-21",null,null,null,"1900-01-21",null,null,null,"1900-01-21",null,null,null,"1900-01-21",null,null,null,"1900-01-21",null,null,null,"1900-01-21",null,null,null,"1900-01-21",null,null,null,"1900-01-21",null,null,null,"1900-01-21",null,null,null,"1900-01-21",null,null,null,"1900-01-21",null,null,null,"1900-01-21",null,null,null,"1900-01-21",null,null,null,"1900-01-21",null,null,null,"1900-01-21",null,null,null,"1900-01-21",null,null,null,"1900-01-21",null,null,null,"1900-01-21",null,null,null,"1900-01-21",null,null,null,"1900-01-21",null,null,null,"1900-01-21",null,null,null,"1900-01-21",null,null,null,"1900-01-21",null,null,null,"1900-01-21",null,null,null,"1900-01-21",null,null,null,"1900-01-21",null,null,null,"1900-01-21",null,null,null,"1900-01-21",null,null,null,"1900-01-21",null,null,null,"1900-01-21",null,null,null,"1900-01-21",null,null,null,"1900-01-21",null,null,null,"1900-01-21",null,null,null,"1900-01-21",null,null,null,"1900-01-21",null,null,null,"1900-01-21",null,null,null,"1900-01-21",null,null,null,"1900-01-21",null,null,null,"1900-01-21",null,null,null,"1900-01-21",null,null,null,"1900-01-21",null,null,null,"1900-01-21",null,null,null,"1900-01-21",null,null,null,"1900-01-21",null,null,null,"1900-01-21",null,null,null,"1900-01-21",null,null,null,"1900-01-21",null,null,null,"1900-01-21",null,null,null,"1900-01-21",null,null,null,"1900-01-21",null,null,null,"1900-01-21",null,null,null,"1900-01-21",null,null,null,"1900-01-21",null,null,null,"1900-01-21",null,null,null,"1900-01-21",null,null,null,"1900-01-21",null,null,null,"1900-01-21",null,null,null,"1900-01-21",null,null,null,"1900-01-21",null,null,null,"1900-01-21",null,null,null,"1900-01-21",null,null,null,"1900-01-21",null,null,null,"1900-01-21",null,null,null,"1900-01-21",null,null,null,"1900-01-21",null,null,null,"1900-01-21",null,null,null,"1900-01-21",null,null,null,"1900-01-21",null,null,null,"1900-01-21",null,null,null,"1900-01-21",null,null,null,"1900-01-21",null,null,null,"1900-01-21",null,null,null,"1900-01-21",null,null,null,"1900-01-21",null,null,null,"1900-01-21",null,null,null,"1900-01-21",null,null,null,"1900-01-21",null,null,null,"1900-01-21",null,null,null,"1900-01-21",null,null,null,"1900-01-21",null,null,null,"1900-01-21",null,null,null,"1900-01-21",null,null,null,"1900-01-21",null,null,null,"1900-01-21",null,null,null,"1900-01-21",null,null,null,"1900-01-21",null,null,null,"1900-01-21",null,null,null,"1900-01-21",null,null,null,"1900-01-21",null,null,null,"1900-01-21",null,null,null,"1900-01-21",null,null,null,"1900-01-21"]
[null,{"$f":"IF(E204=\"\",B1,B1&\"     ( RZ = \"&E204&\" g/l )\")","v":""},null,null,null,{"$f":"IF(I204=\"\",F1,F1&\"     ( RZ = \"&I204&\" g/l )\")","v":""},null,null,null,{"$f":"IF(M204=\"\",J1,J1&\"     ( RZ = \"&M204&\" g/l )\")","v":""},null,null,null,{"$f":"IF(Q204=\"\",N1,N1&\"     ( RZ = \"&Q204&\" g/l )\")","v":""},null,null,null,{"$f":"IF(U204=\"\",R1,R1&\"     ( RZ = \"&U204&\" g/l )\")","v":""},null,null,null,{"$f":"IF(Y204=\"\",V1,V1&\"     ( RZ = \"&Y204&\" g/l )\")","v":""},null,null,null,{"$f":"IF(AC204=\"\",Z1,Z1&\"     ( RZ = \"&AC204&\" g/l )\")","v":""},null,null,null,{"$f":"IF(AG204=\"\",AD1,AD1&\"     ( RZ = \"&AG204&\" g/l )\")","v":""},null,null,null,{"$f":"IF(AK204=\"\",AH1,AH1&\"     ( RZ = \"&AK204&\" g/l )\")","v":""},null,null,null,{"$f":"IF(AO204=\"\",AL1,AL1&\"     ( RZ = \"&AO204&\" g/l )\")","v":""},null,null,null,{"$f":"IF(AS204=\"\",AP1,AP1&\"     ( RZ = \"&AS204&\" g/l )\")","v":""},null,null,null,{"$f":"IF(AW204=\"\",AT1,AT1&\"     ( RZ = \"&AW204&\" g/l )\")","v":""},null,null,null,{"$f":"IF(BA204=\"\",AX1,AX1&\"     ( RZ = \"&BA204&\" g/l )\")","v":""},null,null,null,{"$f":"IF(BE204=\"\",BB1,BB1&\"     ( RZ = \"&BE204&\" g/l )\")","v":""},null,null,null,{"$f":"IF(BI204=\"\",BF1,BF1&\"     ( RZ = \"&BI204&\" g/l )\")","v":""},null,null,null,{"$f":"IF(BM204=\"\",BJ1,BJ1&\"     ( RZ = \"&BM204&\" g/l )\")","v":""},null,null,null,{"$f":"IF(BQ204=\"\",BN1,BN1&\"     ( RZ = \"&BQ204&\" g/l )\")","v":""},null,null,null,{"$f":"IF(BU204=\"\",BR1,BR1&\"     ( RZ = \"&BU204&\" g/l )\")","v":""},null,null,null,{"$f":"IF(BY204=\"\",BV1,BV1&\"     ( RZ = \"&BY204&\" g/l )\")","v":""},null,null,null,{"$f":"IF(CC204=\"\",BZ1,BZ1&\"     ( RZ = \"&CC204&\" g/l )\")","v":""},null,null,null,{"$f":"IF(CG204=\"\",CD1,CD1&\"     ( RZ = \"&CG204&\" g/l )\")","v":""},null,null,null,{"$f":"IF(CK204=\"\",CH1,CH1&\"     ( RZ = \"&CK204&\" g/l )\")","v":""},null,null,null,{"$f":"IF(CO204=\"\",CL1,CL1&\"     ( RZ = \"&CO204&\" g/l )\")","v":""},null,null,null,{"$f":"IF(CS204=\"\",CP1,CP1&\"     ( RZ = \"&CS204&\" g/l )\")","v":""},null,null,null,{"$f":"IF(CW204=\"\",CT1,CT1&\"     ( RZ = \"&CW204&\" g/l )\")","v":""},null,null,null,{"$f":"IF(DA204=\"\",CX1,CX1&\"     ( RZ = \"&DA204&\" g/l )\")","v":""},null,null,null,{"$f":"IF(DE204=\"\",DB1,DB1&\"     ( RZ = \"&DE204&\" g/l )\")","v":""},null,null,null,{"$f":"IF(DI204=\"\",DF1,DF1&\"     ( RZ = \"&DI204&\" g/l )\")","v":""},null,null,null,{"$f":"IF(DM204=\"\",DJ1,DJ1&\"     ( RZ = \"&DM204&\" g/l )\")","v":""},null,null,null,{"$f":"IF(DQ204=\"\",DN1,DN1&\"     ( RZ = \"&DQ204&\" g/l )\")","v":""},null,null,null,{"$f":"IF(DU204=\"\",DR1,DR1&\"     ( RZ = \"&DU204&\" g/l )\")","v":""},null,null,null,{"$f":"IF(DY204=\"\",DV1,DV1&\"     ( RZ = \"&DY204&\" g/l )\")","v":""},null,null,null,{"$f":"IF(EC204=\"\",DZ1,DZ1&\"     ( RZ = \"&EC204&\" g/l )\")","v":""},null,null,null,{"$f":"IF(EG204=\"\",ED1,ED1&\"     ( RZ = \"&EG204&\" g/l )\")","v":""},null,null,null,{"$f":"IF(EK204=\"\",EH1,EH1&\"     ( RZ = \"&EK204&\" g/l )\")","v":""},null,null,null,{"$f":"IF(EO204=\"\",EL1,EL1&\"     ( RZ = \"&EO204&\" g/l )\")","v":""},null,null,null,{"$f":"IF(ES204=\"\",EP1,EP1&\"     ( RZ = \"&ES204&\" g/l )\")","v":""},null,null,null,{"$f":"IF(EW204=\"\",ET1,ET1&\"     ( RZ = \"&EW204&\" g/l )\")","v":""},null,null,null,{"$f":"IF(FA204=\"\",EX1,EX1&\"     ( RZ = \"&FA204&\" g/l )\")","v":""},null,null,null,{"$f":"IF(FE204=\"\",FB1,FB1&\"     ( RZ = \"&FE204&\" g/l )\")","v":""},null,null,null,{"$f":"IF(FI204=\"\",FF1,FF1&\"     ( RZ = \"&FI204&\" g/l )\")","v":""},null,null,null,{"$f":"IF(FM204=\"\",FJ1,FJ1&\"     ( RZ = \"&FM204&\" g/l )\")","v":""},null,null,null,{"$f":"IF(FQ204=\"\",FN1,FN1&\"     ( RZ = \"&FQ204&\" g/l )\")","v":""},null,null,null,{"$f":"IF(FU204=\"\",FR1,FR1&\"     ( RZ = \"&FU204&\" g/l )\")","v":""},null,null,null,{"$f":"IF(FY204=\"\",FV1,FV1&\"     ( RZ = \"&FY204&\" g/l )\")","v":""},null,null,null,{"$f":"IF(GC204=\"\",FZ1,FZ1&\"     ( RZ = \"&GC204&\" g/l )\")","v":""},null,null,null,{"$f":"IF(GG204=\"\",GD1,GD1&\"     ( RZ = \"&GG204&\" g/l )\")","v":""},null,null,null,{"$f":"IF(GK204=\"\",GH1,GH1&\"     ( RZ = \"&GK204&\" g/l )\")","v":""},null,null,null,{"$f":"IF(GO204=\"\",GL1,GL1&\"     ( RZ = \"&GO204&\" g/l )\")","v":""},null,null,null,{"$f":"IF(GS204=\"\",GP1,GP1&\"     ( RZ = \"&GS204&\" g/l )\")","v":""},null,null,null,{"$f":"IF(GW204=\"\",GT1,GT1&\"     ( RZ = \"&GW204&\" g/l )\")","v":""},null,null,null,{"$f":"IF(HA204=\"\",GX1,GX1&\"     ( RZ = \"&HA204&\" g/l )\")","v":""},null,null,null,{"$f":"IF(HE204=\"\",HB1,HB1&\"     ( RZ = \"&HE204&\" g/l )\")","v":""},null,null,null,{"$f":"IF(HI204=\"\",HF1,HF1&\"     ( RZ = \"&HI204&\" g/l )\")","v":""},null,null,null,{"$f":"IF(HM204=\"\",HJ1,HJ1&\"     ( RZ = \"&HM204&\" g/l )\")","v":""},null,null,null,{"$f":"IF(HQ204=\"\",HN1,HN1&\"     ( RZ = \"&HQ204&\" g/l )\")","v":""},null,null,null,{"$f":"IF(HU204=\"\",HR1,HR1&\"     ( RZ = \"&HU204&\" g/l )\")","v":""},null,null,null,{"$f":"IF(HY204=\"\",HV1,HV1&\"     ( RZ = \"&HY204&\" g/l )\")","v":""},null,null,null,{"$f":"IF(IC204=\"\",HZ1,HZ1&\"     ( RZ = \"&IC204&\" g/l )\")","v":""},null,null,null,{"$f":"IF(IG204=\"\",ID1,ID1&\"     ( RZ = \"&IG204&\" g/l )\")","v":""},null,null,null,{"$f":"IF(IK204=\"\",IH1,IH1&\"     ( RZ = \"&IK204&\" g/l )\")","v":""},null,null,null,{"$f":"IF(IO204=\"\",IL1,IL1&\"     ( RZ = \"&IO204&\" g/l )\")","v":""},null,null,null,{"$f":"IF(IS204=\"\",IP1,IP1&\"     ( RZ = \"&IS204&\" g/l )\")","v":""},null,null,null,{"$f":"IF(IW204=\"\",IT1,IT1&\"     ( RZ = \"&IW204&\" g/l )\")","v":""},null,null,null,{"$f":"IF(JA204=\"\",IX1,IX1&\"     ( RZ = \"&JA204&\" g/l )\")","v":""},null,null,null,{"$f":"IF(JE204=\"\",JB1,JB1&\"     ( RZ = \"&JE204&\" g/l )\")","v":""},null,null,null,{"$f":"IF(JI204=\"\",JF1,JF1&\"     ( RZ = \"&JI204&\" g/l )\")","v":""},null,null,null,{"$f":"IF(JM204=\"\",JJ1,JJ1&\"     ( RZ = \"&JM204&\" g/l )\")","v":""},null,null,null,{"$f":"IF(JQ204=\"\",JN1,JN1&\"     ( RZ = \"&JQ204&\" g/l )\")","v":""},null,null,null,{"$f":"IF(JU204=\"\",JR1,JR1&\"     ( RZ = \"&JU204&\" g/l )\")","v":""},null,null,null,{"$f":"IF(JY204=\"\",JV1,JV1&\"     ( RZ = \"&JY204&\" g/l )\")","v":""},null,null,null,{"$f":"IF(KC204=\"\",JZ1,JZ1&\"     ( RZ = \"&KC204&\" g/l )\")","v":""},null,null,null,{"$f":"IF(KG204=\"\",KD1,KD1&\"     ( RZ = \"&KG204&\" g/l )\")","v":""},null,null,null,{"$f":"IF(KK204=\"\",KH1,KH1&\"     ( RZ = \"&KK204&\" g/l )\")","v":""},null,null,null,{"$f":"IF(KO204=\"\",KL1,KL1&\"     ( RZ = \"&KO204&\" g/l )\")","v":""},null,null,null,{"$f":"IF(KS204=\"\",KP1,KP1&\"     ( RZ = \"&KS204&\" g/l )\")","v":""},null,null,null,{"$f":"IF(KW204=\"\",KT1,KT1&\"     ( RZ = \"&KW204&\" g/l )\")","v":""},null,null,null,{"$f":"IF(LA204=\"\",KX1,KX1&\"     ( RZ = \"&LA204&\" g/l )\")","v":""},null,null,null,{"$f":"IF(LE204=\"\",LB1,LB1&\"     ( RZ = \"&LE204&\" g/l )\")","v":""},null,null,null,{"$f":"IF(LI204=\"\",LF1,LF1&\"     ( RZ = \"&LI204&\" g/l )\")","v":""},null,null,null,{"$f":"IF(LM204=\"\",LJ1,LJ1&\"     ( RZ = \"&LM204&\" g/l )\")","v":""},null,null,null,{"$f":"IF(LQ204=\"\",LN1,LN1&\"     ( RZ = \"&LQ204&\" g/l )\")","v":""},null,null,null,{"$f":"IF(LU204=\"\",LR1,LR1&\"     ( RZ = \"&LU204&\" g/l )\")","v":""},null,null,null,{"$f":"IF(LY204=\"\",LV1,LV1&\"     ( RZ = \"&LY204&\" g/l )\")","v":""},null,null,null,{"$f":"IF(MC204=\"\",LZ1,LZ1&\"     ( RZ = \"&MC204&\" g/l )\")","v":""},null,null,null,{"$f":"IF(MG204=\"\",MD1,MD1&\"     ( RZ = \"&MG204&\" g/l )\")","v":""},null,null,null,{"$f":"IF(MK204=\"\",MH1,MH1&\"     ( RZ = \"&MK204&\" g/l )\")","v":""},null,null,null,{"$f":"IF(MO204=\"\",ML1,ML1&\"     ( RZ = \"&MO204&\" g/l )\")","v":""},null,null,null,{"$f":"IF(MS204=\"\",MP1,MP1&\"     ( RZ = \"&MS204&\" g/l )\")","v":""},null,null,null,{"$f":"IF(MW204=\"\",MT1,MT1&\"     ( RZ = \"&MW204&\" g/l )\")","v":""},null,null,null,{"$f":"IF(NA204=\"\",MX1,MX1&\"     ( RZ = \"&NA204&\" g/l )\")","v":""},null,null,null,{"$f":"IF(NE204=\"\",NB1,NB1&\"     ( RZ = \"&NE204&\" g/l )\")","v":""},null,null,null,{"$f":"IF(NI204=\"\",NF1,NF1&\"     ( RZ = \"&NI204&\" g/l )\")","v":""},null,null,null,{"$f":"IF(NM204=\"\",NJ1,NJ1&\"     ( RZ = \"&NM204&\" g/l )\")","v":""},null,null,null,{"$f":"IF(NQ204=\"\",NN1,NN1&\"     ( RZ = \"&NQ204&\" g/l )\")","v":""},null,null,null,{"$f":"IF(NU204=\"\",NR1,NR1&\"     ( RZ = \"&NU204&\" g/l )\")","v":""},null,null,null,{"$f":"IF(NY204=\"\",NV1,NV1&\"     ( RZ = \"&NY204&\" g/l )\")","v":""},null,null,null,{"$f":"IF(OC204=\"\",NZ1,NZ1&\"     ( RZ = \"&OC204&\" g/l )\")","v":""},null,null,null,{"$f":"IF(OG204=\"\",OD1,OD1&\"     ( RZ = \"&OG204&\" g/l )\")","v":""},null,null,null,{"$f":"IF(OK204=\"\",OH1,OH1&\"     ( RZ = \"&OK204&\" g/l )\")","v":""},null,null,null,{"$f":"IF(OO204=\"\",OL1,OL1&\"     ( RZ = \"&OO204&\" g/l )\")","v":""},null,null,null,{"$f":"IF(OS204=\"\",OP1,OP1&\"     ( RZ = \"&OS204&\" g/l )\")","v":""},null,null,null,{"$f":"IF(OW204=\"\",OT1,OT1&\"     ( RZ = \"&OW204&\" g/l )\")","v":""},null,null,null,{"$f":"IF(PA204=\"\",OX1,OX1&\"     ( RZ = \"&PA204&\" g/l )\")","v":""},null,null,null,{"$f":"IF(PE204=\"\",PB1,PB1&\"     ( RZ = \"&PE204&\" g/l )\")","v":""},null,null,null,{"$f":"IF(PI204=\"\",PF1,PF1&\"     ( RZ = \"&PI204&\" g/l )\")","v":""},null,null,null,{"$f":"IF(PM204=\"\",PJ1,PJ1&\"     ( RZ = \"&PM204&\" g/l )\")","v":""},null,null,null,{"$f":"IF(PQ204=\"\",PN1,PN1&\"     ( RZ = \"&PQ204&\" g/l )\")","v":""}]

{"sheet":"001-012","index":3,"n_rows":0,"n_cols":0,"rows_kept":0,"cut":false,"hidden":false,"merged":[]}

{"sheet":"013-024","index":4,"n_rows":0,"n_cols":0,"rows_kept":0,"cut":false,"hidden":false,"merged":[]}

{"sheet":"025-036","index":5,"n_rows":0,"n_cols":0,"rows_kept":0,"cut":false,"hidden":false,"merged":[]}

{"sheet":"037-048","index":6,"n_rows":0,"n_cols":0,"rows_kept":0,"cut":false,"hidden":false,"merged":[]}

{"sheet":"049-060","index":7,"n_rows":0,"n_cols":0,"rows_kept":0,"cut":false,"hidden":false,"merged":[]}

{"sheet":"061-072","index":8,"n_rows":0,"n_cols":0,"rows_kept":0,"cut":false,"hidden":false,"merged":[]}

{"sheet":"073-084","index":9,"n_rows":0,"n_cols":0,"rows_kept":0,"cut":false,"hidden":false,"merged":[]}

{"sheet":"085-096","index":10,"n_rows":0,"n_cols":0,"rows_kept":0,"cut":false,"hidden":false,"merged":[]}

{"sheet":"097-108","index":11,"n_rows":0,"n_cols":0,"rows_kept":0,"cut":false,"hidden":false,"merged":[]}